BEGIN:VCALENDAR
VERSION:2.0
BEGIN:VEVENT
UID:BARNSTORMERSCOMEDY-1648
DTSTART:20260625T200000
DTEND:20260625T220000
SUMMARY:Barnstormers Comedy - Grove Theatre
DESCRIPTION:Watch This Space! - Barnstormers Comedy
LOCATION:Grove Theatre\, Dunstable\, LU5 4GP
URL:http://www.barnstormerscomedy.com/performance.php?id=1648
END:VEVENT
END:VCALENDAR